Workbook

Sheet Donc TOTAL
A1: NOV 2024 Y11 ACTIVITY SURVEY FOR DONCASTER TOTAL - ALL | C1: Female | D1: Male | E1: Unknown | F1: Total | G1: % Female | H1: % Male | I1: % Total
B2: Full Time Education | C2: =SUM(C3:C8) -> 1655 | D2: =D3+D4+D5+D6+D7+D8 -> 1629 | E2: 0 | F2: =SUM(C2:E2) -> 3284 | G2: =C2/$F$48 -> 0.44168668 | H2: =D2/$F$48 -> 0.4347478 | I2: =F2/$F$48 -> 0.87643448
A3: PARTICIPATION | B3: School Sixth Form | C3: 530 | D3: 385 | E3: 0 | F3: =SUM(C3:E3) -> 915 | G3: =C3/$F$48 -> 0.14144649 | H3: =D3/$F$48 -> 0.10274887 | I3: =F3/$F$48 -> 0.24419536 | J3: 210 | K3: EET | L3: PART
B4: Sixth Form College | C4: 371 | D4: 290 | E4: 0 | F4: =SUM(C4:E4) -> 661 | G4: =C4/$F$48 -> 0.099012543 | H4: =D4/$F$48 -> 0.07739525 | I4: =F4/$F$48 -> 0.17640779 | J4: 220 | K4: EET | L4: PART
B5: Further Education | C5: 726 | D5: 898 | E5: 0 | F5: =SUM(C5:E5) -> 1624 | G5: =C5/$F$48 -> 0.193755 | H5: =D5/$F$48 -> 0.23965839 | I5: =F5/$F$48 -> 0.4334134 | J5: 230 | K5: EET | L5: PART
B6: Other post 16 education (Repeating Yr11 etc) | C6: 19 | D6: 26 | E6: 0 | F6: =SUM(C6:E6) -> 45 | G6: =C6/$F$48 -> 0.0050707232 | H6: =D6/$F$48 -> 0.0069388844 | I6: =F6/$F$48 -> 0.012009608 | J6: 270 | K6: EET | L6: PART
B7: Custodial Institution | C7: 0 | D7: 0 | E7: 0 | F7: =SUM(C7:E7) -> 0 | G7: =C7/$F$48 -> 0 | H7: =D7/$F$48 -> 0 | I7: =F7/$F$48 -> 0 | J7: 290 | K7: EET | L7: PART
B8: Independent specialist provider | C8: 9 | D8: 30 | E8: 0 | F8: =SUM(C8:E8) -> 39 | G8: =C8/$F$48 -> 0.0024019215 | H8: =D8/$F$48 -> 0.0080064051 | I8: =F8/$F$48 -> 0.010408327 | J8: 280 | K8: EET | L8: PART
B9: Full Time Training | C9: =C10+C11+C12+C13 -> 61 | D9: =D10+D11+D12+D13 -> 22 | E9: =E10+E11+E12+E13 -> 0 | F9: =SUM(C9:E9) -> 83 | G9: =C9/$F$48 -> 0.01627969 | H9: =D9/$F$48 -> 0.0058713638 | I9: =F9/$F$48 -> 0.022151054
B10: EFA Delivered work based Learning | C10: 61 | D10: 22 | E10: 0 | F10: =SUM(C10:E10) -> 83 | G10: =C10/$F$48 -> 0.01627969 | H10: =D10/$F$48 -> 0.0058713638 | I10: =F10/$F$48 -> 0.022151054 | J10: 410 | K10: EET | L10: PART
B11: Other Training | C11: 0 | D11: 0 | E11: 0 | F11: =SUM(C11:E11) -> 0 | G11: =C11/$F$48 -> 0 | H11: =D11/$F$48 -> 0 | I11: =F11/$F$48 -> 0 | J11: 430 | K11: EET | L11: PART
B12: Traineeship | C12: 0 | D12: 0 | E12: 0 | F12: =SUM(C12:E12) -> 0 | G12: =C12/$F$48 -> 0 | H12: =D12/$F$48 -> 0 | I12: =F12/$F$48 -> 0 | J12: 450 | K12: EET | L12: PART
B13: Supported Internship | C13: 0 | D13: 0 | E13: 0 | F13: =SUM(C13:E13) -> 0 | G13: =C13/$F$48 -> 0 | H13: =D13/$F$48 -> 0 | I13: =F13/$F$48 -> 0 | K13: EET | L13: PART
B14: Apprenticeship | C14: =SUM(C15) -> 39 | D14: =D15 -> 110 | E14: =E15 -> 0 | F14: =SUM(C14:E14) -> 149 | G14: =C14/$F$48 -> 0.010408327 | H14: =D14/$F$48 -> 0.029356819 | I14: =F14/$F$48 -> 0.039765145
B15: Apprenticeship | C15: 39 | D15: 110 | E15: 0 | F15: =SUM(C15:E15) -> 149 | G15: =C15/$F$48 -> 0.010408327 | H15: =D15/$F$48 -> 0.029356819 | I15: =F15/$F$48 -> 0.039765145 | J15: 310 | K15: EET | L15: PART
B16: Employment with combined training | C16: =C17+C18+C19 -> 14 | D16: =D17+D18+D19 -> 24 | E16: =E17+E18+E19 -> 0 | F16: =SUM(C16:E16) -> 38 | G16: =C16/$F$48 -> 0.0037363224 | H16: =D16/$F$48 -> 0.0064051241 | I16: =F16/$F$48 -> 0.010141446
B17: Full Time employment combined with accredited study | C17: 14 | D17: 24 | E17: 0 | F17: =SUM(C17:E17) -> 38 | G17: =C17/$F$48 -> 0.0037363224 | H17: =D17/$F$48 -> 0.0064051241 | I17: =F17/$F$48 -> 0.010141446 | J17: 320 | K17: EET | L17: PART
B18: Self-employment combined with accredited training | C18: 0 | D18: 0 | E18: 0 | F18: =SUM(C18:E18) -> 0 | G18: =C18/$F$48 -> 0 | H18: =D18/$F$48 -> 0 | I18: =F18/$F$48 -> 0 | K18: EET | L18: PART
B19: Working not for reward with accredited training | C19: 0 | D19: 0 | E19: 0 | F19: =SUM(C19:E19) -> 0 | G19: =C19/$F$48 -> 0 | H19: =D19/$F$48 -> 0 | I19: =F19/$F$48 -> 0 | J19: 550 | K19: EET | L19: PART
A20: WORKING TOWARDS | B20: Working Towards Participation | C20: =C21+C22 -> 0 | D20: =D21+D22 -> 1 | E20: =E21+E22 -> 0 | F20: =SUM(C20:E20) -> 1 | G20: =C20/$F$48 -> 0 | H20: =D20/$F$48 -> 0.00026688017 | I20: =F20/$F$48 -> 0.00026688017
B21: Re-Engagement Activities | C21: 0 | D21: 0 | E21: 0 | F21: =SUM(C21:E21) -> 0 | G21: =C21/$F$48 -> 0 | H21: =D21/$F$48 -> 0 | I21: =F21/$F$48 -> 0 | K21: EET | L21: WT
B22: Start Date Agreed | C22: 0 | D22: 1 | E22: 0 | F22: =SUM(C22:E22) -> 1 | G22: =C22/$F$48 -> 0 | H22: =D22/$F$48 -> 0.00026688017 | I22: =F22/$F$48 -> 0.00026688017 | K22: NEET | L22: WT
A23: TEMP BREAK FROM LEARNING | B23: Temporary Break in Learning | C23: =C24+C25+C26 -> 3 | D23: =D24+D25+D26 -> 4 | E23: =E24+E25+E26 -> 0 | F23: =SUM(C23:E23) -> 7 | G23: =C23/$F$48 -> 0.00080064051 | H23: =D23/$F$48 -> 0.0010675207 | I23: =F23/$F$48 -> 0.0018681612
B24: Supporting Family - teenage parent | C24: 1 | D24: 0 | E24: 0 | F24: =SUM(C24:E24) -> 1 | G24: =C24/$F$48 -> 0.00026688017 | H24: =D24/$F$48 -> 0 | I24: =F24/$F$48 -> 0.00026688017 | J24: 630 | K24: NEET | L24: TB
B25: Illness | C25: 1 | D25: 4 | E25: 0 | F25: =SUM(C25:E25) -> 5 | G25: =C25/$F$48 -> 0.00026688017 | H25: =D25/$F$48 -> 0.0010675207 | I25: =F25/$F$48 -> 0.0013344009 | J25: 640 | K25: NEET | L25: TB
B26: Pregnancy | C26: 1 | D26: 0 | E26: 0 | F26: =SUM(C26:E26) -> 1 | G26: =C26/$F$48 -> 0.00026688017 | H26: =D26/$F$48 -> 0 | I26: =F26/$F$48 -> 0.00026688017 | J26: 650 | K26: NEET | L26: TB
A27: NOT PARTICIPATING | B27: Employment without Training | C27: =C28+C29+C30+C31 -> 9 | D27: =D28+D29+D30+D31 -> 22 | E27: =E28+E29+E30+E31 -> 0 | F27: =SUM(C27:E27) -> 31 | G27: =C27/$F$48 -> 0.0024019215 | H27: =D27/$F$48 -> 0.0058713638 | I27: =F27/$F$48 -> 0.0082732853
B28: Employment without Training | C28: 4 | D28: 5 | E28: 0 | F28: =SUM(C28:E28) -> 9 | G28: =C28/$F$48 -> 0.0010675207 | H28: =D28/$F$48 -> 0.0013344009 | I28: =F28/$F$48 -> 0.0024019215 | J28: 330 | K28: EET
B29: Employment with non-accredited training | C29: 5 | D29: 17 | E29: 0 | F29: =SUM(C29:E29) -> 22 | G29: =C29/$F$48 -> 0.0013344009 | H29: =D29/$F$48 -> 0.0045369629 | I29: =F29/$F$48 -> 0.0058713638 | J29: 340 | K29: EET
B30: Temporary Employment | C30: 0 | D30: 0 | E30: 0 | F30: =SUM(C30:E30) -> 0 | G30: =C30/$F$48 -> 0 | H30: =D30/$F$48 -> 0 | I30: =F30/$F$48 -> 0 | K30: EET
B31: Self-Employment | C31: 0 | D31: 0 | E31: 0 | F31: =SUM(C31:E31) -> 0 | G31: =C31/$F$48 -> 0 | H31: =D31/$F$48 -> 0 | I31: =F31/$F$48 -> 0 | K31: EET
B32: Not Settled (active in the labour market): | C32: =C33+C34+C35+C36 -> 6 | D32: =D33+D34+D35+D36 -> 5 | E32: =E33+E34+E35+E36 -> 0 | F32: =SUM(C32:E32) -> 11 | G32: =C32/$F$48 -> 0.001601281 | H32: =D32/$F$48 -> 0.0013344009 | I32: =F32/$F$48 -> 0.0029356819
B33: Part Time Education | C33: 0 | D33: 0 | E33: 0 | F33: =SUM(C33:E33) -> 0 | G33: =C33/$F$48 -> 0 | H33: =D33/$F$48 -> 0 | I33: =F33/$F$48 -> 0 | K33: EET
B34: Part Time Employment | C34: 5 | D34: 5 | E34: 0 | F34: =SUM(C34:E34) -> 10 | G34: =C34/$F$48 -> 0.0013344009 | H34: =D34/$F$48 -> 0.0013344009 | I34: =F34/$F$48 -> 0.0026688017 | J34: 360 | K34: EET
B35: Start Date Agreed (other) | C35: 0 | D35: 0 | E35: 0 | F35: =SUM(C35:E35) -> 0 | G35: =C35/$F$48 -> 0 | H35: =D35/$F$48 -> 0 | I35: =F35/$F$48 -> 0 | K35: NEET
B36: Working not for reward | C36: 1 | D36: 0 | E36: 0 | F36: =SUM(C36:E36) -> 1 | G36: =C36/$F$48 -> 0.00026688017 | H36: =D36/$F$48 -> 0 | I36: =F36/$F$48 -> 0.00026688017 | J36: 540 | K36: NEET
B37: Not Settled (not active in the labour market): | C37: =C38+C39+C40+C41+C42+C43 -> 45 | D37: =D38+D39+D40+D41+D42+D43 -> 66 | E37: =E38+E39+E40+E41+E42+E43 -> 0 | F37: =SUM(C37:E37) -> 111 | G37: =C37/$F$48 -> 0.012009608 | H37: =D37/$F$48 -> 0.017614091 | I37: =F37/$F$48 -> 0.029623699
B38: NEET - not ready for work or learning | C38: 10 | D38: 4 | E38: 0 | F38: =SUM(C38:E38) -> 14 | G38: =C38/$F$48 -> 0.0026688017 | H38: =D38/$F$48 -> 0.0010675207 | I38: =F38/$F$48 -> 0.0037363224 | J38: 610 | K38: NEET
B39: Seeking employment, education or training | C39: 35 | D39: 62 | E39: 0 | F39: =SUM(C39:E39) -> 97 | G39: =C39/$F$48 -> 0.009340806 | H39: =D39/$F$48 -> 0.016546571 | I39: =F39/$F$48 -> 0.025887377 | J39: 619 | K39: NEET
B40: NEET - Supporting family - young carer | C40: 0 | D40: 0 | E40: 0 | F40: =SUM(C40:E40) -> 0 | G40: =C40/$F$48 -> 0 | H40: =D40/$F$48 -> 0 | I40: =F40/$F$48 -> 0 | K40: NEET
...

Sheet Schools Summary
A1: NOV 2024 Y11 ACTIVITY SURVEY FOR DONCASTER SCHOOLS | C1: Female | D1: Male | E1: Unknown | F1: Total | G1: % Female | H1: % Male | I1: % Total
B2: Full Time Education | C2: =SUM(C3:C8) -> 48 | D2: =D3+D4+D5+D6+D7+D8 -> 48 | E2: 0 | F2: =SUM(C2:E2) -> 96 | G2: =IFERROR(SUM(C2/$F$48),0) -> 0.44036697 | H2: =IFERROR(SUM(D2/$F$48),0) -> 0.44036697 | I2: =IFERROR(SUM(F2/$F$48),0) -> 0.88073394 | N2: School Name (Please Select) | O2: Armthorpe Academy
A3: PARTICIPATION | B3: FTE – school sixth-form | C3: =COUNTIFS('Data Sheet'!$A:$A,'Schools Summary'!$O$2,'Data Sheet'!$H:$H,'Schools Summary'!$B3,'Data Sheet'!$E:$E,"F") -> 2 | D3: =COUNTIFS('Data Sheet'!$A:$A,'Schools Summary'!$O$2,'Data Sheet'!$H:$H,'Schools Summary'!$B3,'Data Sheet'!$E:$E,"m") -> 4 | E3: 0 | F3: =SUM(C3:E3) -> 6 | G3: =IFERROR(SUM(C3/$F$48),0) -> 0.018348624 | H3: =IFERROR(SUM(D3/$F$48),0) -> 0.036697248 | I3: =IFERROR(SUM(F3/$F$48),0) -> 0.055045872 | J3: 210 | K3: EET | L3: PART
B4: FTE – sixth-form college | C4: =COUNTIFS('Data Sheet'!$A:$A,'Schools Summary'!$O$2,'Data Sheet'!$H:$H,'Schools Summary'!$B4,'Data Sheet'!$E:$E,"F") -> 10 | D4: =COUNTIFS('Data Sheet'!$A:$A,'Schools Summary'!$O$2,'Data Sheet'!$H:$H,'Schools Summary'!$B4,'Data Sheet'!$E:$E,"m") -> 10 | E4: 0 | F4: =SUM(C4:E4) -> 20 | G4: =IFERROR(SUM(C4/$F$48),0) -> 0.091743119 | H4: =IFERROR(SUM(D4/$F$48),0) -> 0.091743119 | I4: =IFERROR(SUM(F4/$F$48),0) -> 0.18348624 | J4: 220 | K4: EET | L4: PART
B5: FTE – further education | C5: =COUNTIFS('Data Sheet'!$A:$A,'Schools Summary'!$O$2,'Data Sheet'!$H:$H,'Schools Summary'!$B5,'Data Sheet'!$E:$E,"F") -> 34 | D5: =COUNTIFS('Data Sheet'!$A:$A,'Schools Summary'!$O$2,'Data Sheet'!$H:$H,'Schools Summary'!$B5,'Data Sheet'!$E:$E,"m") -> 33 | E5: 0 | F5: =SUM(C5:E5) -> 67 | G5: =IFERROR(SUM(C5/$F$48),0) -> 0.31192661 | H5: =IFERROR(SUM(D5/$F$48),0) -> 0.30275229 | I5: =IFERROR(SUM(F5/$F$48),0) -> 0.6146789 | J5: 230 | K5: EET | L5: PART
B6: FTE - other | C6: =COUNTIFS('Data Sheet'!$A:$A,'Schools Summary'!$O$2,'Data Sheet'!$H:$H,'Schools Summary'!$B6,'Data Sheet'!$E:$E,"F") -> 1 | D6: =COUNTIFS('Data Sheet'!$A:$A,'Schools Summary'!$O$2,'Data Sheet'!$H:$H,'Schools Summary'!$B6,'Data Sheet'!$E:$E,"m") -> 0 | E6: 0 | F6: =SUM(C6:E6) -> 1 | G6: =IFERROR(SUM(C6/$F$48),0) -> 0.0091743119 | H6: =IFERROR(SUM(D6/$F$48),0) -> 0 | I6: =IFERROR(SUM(F6/$F$48),0) -> 0.0091743119 | J6: 270 | K6: EET | L6: PART
B7: Custodial Institution | C7: =COUNTIFS('Data Sheet'!$A:$A,'Schools Summary'!$O$2,'Data Sheet'!$H:$H,'Schools Summary'!$B7,'Data Sheet'!$E:$E,"F") -> 0 | D7: =COUNTIFS('Data Sheet'!$A:$A,'Schools Summary'!$O$2,'Data Sheet'!$H:$H,'Schools Summary'!$B7,'Data Sheet'!$E:$E,"m") -> 0 | E7: 0 | F7: =SUM(C7:E7) -> 0 | G7: =IFERROR(SUM(C7/$F$48),0) -> 0 | H7: =IFERROR(SUM(D7/$F$48),0) -> 0 | I7: =IFERROR(SUM(F7/$F$48),0) -> 0 | J7: 290 | K7: EET | L7: PART
B8: Special Post-16 Institution | C8: =COUNTIFS('Data Sheet'!$A:$A,'Schools Summary'!$O$2,'Data Sheet'!$H:$H,'Schools Summary'!$B8,'Data Sheet'!$E:$E,"F") -> 1 | D8: =COUNTIFS('Data Sheet'!$A:$A,'Schools Summary'!$O$2,'Data Sheet'!$H:$H,'Schools Summary'!$B8,'Data Sheet'!$E:$E,"m") -> 1 | E8: 0 | F8: =SUM(C8:E8) -> 2 | G8: =IFERROR(SUM(C8/$F$48),0) -> 0.0091743119 | H8: =IFERROR(SUM(D8/$F$48),0) -> 0.0091743119 | I8: =IFERROR(SUM(F8/$F$48),0) -> 0.018348624 | J8: 280 | K8: EET | L8: PART
B9: Full Time Training | C9: =C10+C11+C12+C13 -> 3 | D9: =D10+D11+D12+D13 -> 0 | E9: =E10+E11+E12+E13 -> 0 | F9: =SUM(C9:E9) -> 3 | G9: =IFERROR(SUM(C9/$F$48),0) -> 0.027522936 | H9: =IFERROR(SUM(D9/$F$48),0) -> 0 | I9: =IFERROR(SUM(F9/$F$48),0) -> 0.027522936
B10: EFA/SFA funded WBL | C10: =COUNTIFS('Data Sheet'!$A:$A,'Schools Summary'!$O$2,'Data Sheet'!$H:$H,'Schools Summary'!$B10,'Data Sheet'!$E:$E,"F") -> 3 | D10: =COUNTIFS('Data Sheet'!$A:$A,'Schools Summary'!$O$2,'Data Sheet'!$H:$H,'Schools Summary'!$B10,'Data Sheet'!$E:$E,"m") -> 0 | E10: 0 | F10: =SUM(C10:E10) -> 3 | G10: =IFERROR(SUM(C10/$F$48),0) -> 0.027522936 | H10: =IFERROR(SUM(D10/$F$48),0) -> 0 | I10: =IFERROR(SUM(F10/$F$48),0) -> 0.027522936 | J10: 410 | K10: EET | L10: PART
B11: Other Training | C11: =COUNTIFS('Data Sheet'!$A:$A,'Schools Summary'!$O$2,'Data Sheet'!$H:$H,'Schools Summary'!$B11,'Data Sheet'!$E:$E,"F") -> 0 | D11: =COUNTIFS('Data Sheet'!$A:$A,'Schools Summary'!$O$2,'Data Sheet'!$H:$H,'Schools Summary'!$B11,'Data Sheet'!$E:$E,"m") -> 0 | E11: 0 | F11: =SUM(C11:E11) -> 0 | G11: =IFERROR(SUM(C11/$F$48),0) -> 0 | H11: =IFERROR(SUM(D11/$F$48),0) -> 0 | I11: =IFERROR(SUM(F11/$F$48),0) -> 0 | J11: 430 | K11: EET | L11: PART
B12: Traineeship | C12: =COUNTIFS('Data Sheet'!$A:$A,'Schools Summary'!$O$2,'Data Sheet'!$H:$H,'Schools Summary'!$B12,'Data Sheet'!$E:$E,"F") -> 0 | D12: =COUNTIFS('Data Sheet'!$A:$A,'Schools Summary'!$O$2,'Data Sheet'!$H:$H,'Schools Summary'!$B12,'Data Sheet'!$E:$E,"m") -> 0 | E12: 0 | F12: =SUM(C12:E12) -> 0 | G12: =IFERROR(SUM(C12/$F$48),0) -> 0 | H12: =IFERROR(SUM(D12/$F$48),0) -> 0 | I12: =IFERROR(SUM(F12/$F$48),0) -> 0 | J12: 450 | K12: EET | L12: PART
B13: Supported Internship | C13: =COUNTIFS('Data Sheet'!$A:$A,'Schools Summary'!$O$2,'Data Sheet'!$H:$H,'Schools Summary'!$B13,'Data Sheet'!$E:$E,"F") -> 0 | D13: =COUNTIFS('Data Sheet'!$A:$A,'Schools Summary'!$O$2,'Data Sheet'!$H:$H,'Schools Summary'!$B13,'Data Sheet'!$E:$E,"m") -> 0 | E13: 0 | F13: =SUM(C13:E13) -> 0 | G13: =IFERROR(SUM(C13/$F$48),0) -> 0 | H13: =IFERROR(SUM(D13/$F$48),0) -> 0 | I13: =IFERROR(SUM(F13/$F$48),0) -> 0 | K13: EET | L13: PART
B14: Apprenticeship | C14: =SUM(C15) -> 1 | D14: =D15 -> 4 | E14: =E15 -> 0 | F14: =SUM(C14:E14) -> 5 | G14: =IFERROR(SUM(C14/$F$48),0) -> 0.0091743119 | H14: =IFERROR(SUM(D14/$F$48),0) -> 0.036697248 | I14: =IFERROR(SUM(F14/$F$48),0) -> 0.04587156
B15: Apprenticeship | C15: =COUNTIFS('Data Sheet'!$A:$A,'Schools Summary'!$O$2,'Data Sheet'!$H:$H,'Schools Summary'!$B15,'Data Sheet'!$E:$E,"F") -> 1 | D15: =COUNTIFS('Data Sheet'!$A:$A,'Schools Summary'!$O$2,'Data Sheet'!$H:$H,'Schools Summary'!$B15,'Data Sheet'!$E:$E,"m") -> 4 | E15: 0 | F15: =SUM(C15:E15) -> 5 | G15: =IFERROR(SUM(C15/$F$48),0) -> 0.0091743119 | H15: =IFERROR(SUM(D15/$F$48),0) -> 0.036697248 | I15: =IFERROR(SUM(F15/$F$48),0) -> 0.04587156 | J15: 310 | K15: EET | L15: PART
B16: Employment with combined training | C16: =C17+C18+C19 -> 0 | D16: =D17+D18+D19 -> 0 | E16: =E17+E18+E19 -> 0 | F16: =SUM(C16:E16) -> 0 | G16: =IFERROR(SUM(C16/$F$48),0) -> 0 | H16: =IFERROR(SUM(D16/$F$48),0) -> 0 | I16: =IFERROR(SUM(F16/$F$48),0) -> 0
B17: Full time employment with study (regulated qualification) | C17: =COUNTIFS('Data Sheet'!$A:$A,'Schools Summary'!$O$2,'Data Sheet'!$H:$H,'Schools Summary'!$B17,'Data Sheet'!$E:$E,"F") -> 0 | D17: =COUNTIFS('Data Sheet'!$A:$A,'Schools Summary'!$O$2,'Data Sheet'!$H:$H,'Schools Summary'!$B17,'Data Sheet'!$E:$E,"m") -> 0 | E17: 0 | F17: =SUM(C17:E17) -> 0 | G17: =IFERROR(SUM(C17/$F$48),0) -> 0 | H17: =IFERROR(SUM(D17/$F$48),0) -> 0 | I17: =IFERROR(SUM(F17/$F$48),0) -> 0 | J17: 320 | K17: EET | L17: PART
B18: Self-employment combined with accredited training | C18: =COUNTIFS('Data Sheet'!$A:$A,'Schools Summary'!$O$2,'Data Sheet'!$H:$H,'Schools Summary'!$B18,'Data Sheet'!$E:$E,"F") -> 0 | D18: =COUNTIFS('Data Sheet'!$A:$A,'Schools Summary'!$O$2,'Data Sheet'!$H:$H,'Schools Summary'!$B18,'Data Sheet'!$E:$E,"m") -> 0 | E18: 0 | F18: =SUM(C18:E18) -> 0 | G18: =IFERROR(SUM(C18/$F$48),0) -> 0 | H18: =IFERROR(SUM(D18/$F$48),0) -> 0 | I18: =IFERROR(SUM(F18/$F$48),0) -> 0 | K18: EET | L18: PART
B19: Working not for reward with accredited training | C19: =COUNTIFS('Data Sheet'!$A:$A,'Schools Summary'!$O$2,'Data Sheet'!$H:$H,'Schools Summary'!$B19,'Data Sheet'!$E:$E,"F") -> 0 | D19: =COUNTIFS('Data Sheet'!$A:$A,'Schools Summary'!$O$2,'Data Sheet'!$H:$H,'Schools Summary'!$B19,'Data Sheet'!$E:$E,"m") -> 0 | E19: 0 | F19: =SUM(C19:E19) -> 0 | G19: =IFERROR(SUM(C19/$F$48),0) -> 0 | H19: =IFERROR(SUM(D19/$F$48),0) -> 0 | I19: =IFERROR(SUM(F19/$F$48),0) -> 0 | J19: 550 | K19: EET | L19: PART
A20: WORKING TOWARDS | B20: Working Towards Participation (active) | C20: =C21+C22 -> 0 | D20: =D21+D22 -> 0 | E20: =E21+E22 -> 0 | F20: =SUM(C20:E20) -> 0 | G20: =IFERROR(SUM(C20/$F$48),0) -> 0 | H20: =IFERROR(SUM(D20/$F$48),0) -> 0 | I20: =IFERROR(SUM(F20/$F$48),0) -> 0
B21: Re-Engagement Activities | C21: =COUNTIFS('Data Sheet'!$A:$A,'Schools Summary'!$O$2,'Data Sheet'!$H:$H,'Schools Summary'!$B21,'Data Sheet'!$E:$E,"F") -> 0 | D21: =COUNTIFS('Data Sheet'!$A:$A,'Schools Summary'!$O$2,'Data Sheet'!$H:$H,'Schools Summary'!$B21,'Data Sheet'!$E:$E,"m") -> 0 | E21: 0 | F21: =SUM(C21:E21) -> 0 | G21: =IFERROR(SUM(C21/$F$48),0) -> 0 | H21: =IFERROR(SUM(D21/$F$48),0) -> 0 | I21: =IFERROR(SUM(F21/$F$48),0) -> 0 | K21: EET | L21: WT
B22: Start date agreed - RPA Compliant | C22: =COUNTIFS('Data Sheet'!$A:$A,'Schools Summary'!$O$2,'Data Sheet'!$H:$H,'Schools Summary'!$B22,'Data Sheet'!$E:$E,"F") -> 0 | D22: =COUNTIFS('Data Sheet'!$A:$A,'Schools Summary'!$O$2,'Data Sheet'!$H:$H,'Schools Summary'!$B22,'Data Sheet'!$E:$E,"m") -> 0 | E22: 0 | F22: =SUM(C22:E22) -> 0 | G22: =IFERROR(SUM(C22/$F$48),0) -> 0 | H22: =IFERROR(SUM(D22/$F$48),0) -> 0 | I22: =IFERROR(SUM(F22/$F$48),0) -> 0 | K22: NEET | L22: WT
A23: TEMP BREAK FROM LEARNING | B23: Temporary Break in Learning (not active) | C23: =C24+C25+C26 -> 0 | D23: =D24+D25+D26 -> 0 | E23: =E24+E25+E26 -> 0 | F23: =SUM(C23:E23) -> 0 | G23: =IFERROR(SUM(C23/$F$48),0) -> 0 | H23: =IFERROR(SUM(D23/$F$48),0) -> 0 | I23: =IFERROR(SUM(F23/$F$48),0) -> 0
B24: Teenage parent | C24: =COUNTIFS('Data Sheet'!$A:$A,'Schools Summary'!$O$2,'Data Sheet'!$H:$H,'Schools Summary'!$B24,'Data Sheet'!$E:$E,"F") -> 0 | D24: =COUNTIFS('Data Sheet'!$A:$A,'Schools Summary'!$O$2,'Data Sheet'!$H:$H,'Schools Summary'!$B24,'Data Sheet'!$E:$E,"m") -> 0 | E24: 0 | F24: =SUM(C24:E24) -> 0 | G24: =IFERROR(SUM(C24/$F$48),0) -> 0 | H24: =IFERROR(SUM(D24/$F$48),0) -> 0 | I24: =IFERROR(SUM(F24/$F$48),0) -> 0 | J24: 630 | K24: NEET | L24: TB
B25: Illness | C25: =COUNTIFS('Data Sheet'!$A:$A,'Schools Summary'!$O$2,'Data Sheet'!$H:$H,'Schools Summary'!$B25,'Data Sheet'!$E:$E,"F") -> 0 | D25: =COUNTIFS('Data Sheet'!$A:$A,'Schools Summary'!$O$2,'Data Sheet'!$H:$H,'Schools Summary'!$B25,'Data Sheet'!$E:$E,"m") -> 0 | E25: 0 | F25: =SUM(C25:E25) -> 0 | G25: =IFERROR(SUM(C25/$F$48),0) -> 0 | H25: =IFERROR(SUM(D25/$F$48),0) -> 0 | I25: =IFERROR(SUM(F25/$F$48),0) -> 0 | J25: 640 | K25: NEET | L25: TB
B26: Pregnancy | C26: =COUNTIFS('Data Sheet'!$A:$A,'Schools Summary'!$O$2,'Data Sheet'!$H:$H,'Schools Summary'!$B26,'Data Sheet'!$E:$E,"F") -> 0 | D26: =COUNTIFS('Data Sheet'!$A:$A,'Schools Summary'!$O$2,'Data Sheet'!$H:$H,'Schools Summary'!$B26,'Data Sheet'!$E:$E,"m") -> 0 | E26: 0 | F26: =SUM(C26:E26) -> 0 | G26: =IFERROR(SUM(C26/$F$48),0) -> 0 | H26: =IFERROR(SUM(D26/$F$48),0) -> 0 | I26: =IFERROR(SUM(F26/$F$48),0) -> 0 | J26: 650 | K26: NEET | L26: TB
A27: NOT PARTICIPATING | B27: Employment without Training | C27: =C28+C29+C30+C31 -> 0 | D27: =D28+D29+D30+D31 -> 0 | E27: =E28+E29+E30+E31 -> 0 | F27: =SUM(C27:E27) -> 0 | G27: =IFERROR(SUM(C27/$F$48),0) -> 0 | H27: =IFERROR(SUM(D27/$F$48),0) -> 0 | I27: =IFERROR(SUM(F27/$F$48),0) -> 0
B28: Employment without training | C28: =COUNTIFS('Data Sheet'!$A:$A,'Schools Summary'!$O$2,'Data Sheet'!$H:$H,'Schools Summary'!$B28,'Data Sheet'!$E:$E,"F") -> 0 | D28: =COUNTIFS('Data Sheet'!$A:$A,'Schools Summary'!$O$2,'Data Sheet'!$H:$H,'Schools Summary'!$B28,'Data Sheet'!$E:$E,"m") -> 0 | E28: 0 | F28: =SUM(C28:E28) -> 0 | G28: =IFERROR(SUM(C28/$F$48),0) -> 0 | H28: =IFERROR(SUM(D28/$F$48),0) -> 0 | I28: =IFERROR(SUM(F28/$F$48),0) -> 0 | J28: 330 | K28: EET
B29: Employment with training (other) | C29: =COUNTIFS('Data Sheet'!$A:$A,'Schools Summary'!$O$2,'Data Sheet'!$H:$H,'Schools Summary'!$B29,'Data Sheet'!$E:$E,"F") -> 0 | D29: =COUNTIFS('Data Sheet'!$A:$A,'Schools Summary'!$O$2,'Data Sheet'!$H:$H,'Schools Summary'!$B29,'Data Sheet'!$E:$E,"m") -> 0 | E29: 0 | F29: =SUM(C29:E29) -> 0 | G29: =IFERROR(SUM(C29/$F$48),0) -> 0 | H29: =IFERROR(SUM(D29/$F$48),0) -> 0 | I29: =IFERROR(SUM(F29/$F$48),0) -> 0 | J29: 340 | K29: EET
B30: Temporary Employment | C30: =COUNTIFS('Data Sheet'!$A:$A,'Schools Summary'!$O$2,'Data Sheet'!$H:$H,'Schools Summary'!$B30,'Data Sheet'!$E:$E,"F") -> 0 | D30: =COUNTIFS('Data Sheet'!$A:$A,'Schools Summary'!$O$2,'Data Sheet'!$H:$H,'Schools Summary'!$B30,'Data Sheet'!$E:$E,"m") -> 0 | E30: 0 | F30: =SUM(C30:E30) -> 0 | G30: =IFERROR(SUM(C30/$F$48),0) -> 0 | H30: =IFERROR(SUM(D30/$F$48),0) -> 0 | I30: =IFERROR(SUM(F30/$F$48),0) -> 0 | K30: EET
B31: Self-Employment | C31: =COUNTIFS('Data Sheet'!$A:$A,'Schools Summary'!$O$2,'Data Sheet'!$H:$H,'Schools Summary'!$B31,'Data Sheet'!$E:$E,"F") -> 0 | D31: =COUNTIFS('Data Sheet'!$A:$A,'Schools Summary'!$O$2,'Data Sheet'!$H:$H,'Schools Summary'!$B31,'Data Sheet'!$E:$E,"m") -> 0 | E31: 0 | F31: =SUM(C31:E31) -> 0 | G31: =IFERROR(SUM(C31/$F$48),0) -> 0 | H31: =IFERROR(SUM(D31/$F$48),0) -> 0 | I31: =IFERROR(SUM(F31/$F$48),0) -> 0 | K31: EET
B32: Not Settled (active): | C32: =C33+C34+C35+C36+C38+C37 -> 1 | D32: =D33+D34+D35+D36+D38+D37 -> 4 | E32: =E33+E34+E35+E36+E38+E37 -> 0 | F32: =SUM(C32:E32) -> 5 | G32: =IFERROR(SUM(C32/$F$48),0) -> 0.0091743119 | H32: =IFERROR(SUM(D32/$F$48),0) -> 0.036697248 | I32: =IFERROR(SUM(F32/$F$48),0) -> 0.04587156
B33: Part Time Education | C33: =COUNTIFS('Data Sheet'!$A:$A,'Schools Summary'!$O$2,'Data Sheet'!$H:$H,'Schools Summary'!$B33,'Data Sheet'!$E:$E,"F") -> 0 | D33: =COUNTIFS('Data Sheet'!$A:$A,'Schools Summary'!$O$2,'Data Sheet'!$H:$H,'Schools Summary'!$B33,'Data Sheet'!$E:$E,"m") -> 0 | E33: 0 | F33: =SUM(C33:E33) -> 0 | G33: =IFERROR(SUM(C33/$F$48),0) -> 0 | H33: =IFERROR(SUM(D33/$F$48),0) -> 0 | I33: =IFERROR(SUM(F33/$F$48),0) -> 0 | K33: EET
B34: Part time employment | C34: =COUNTIFS('Data Sheet'!$A:$A,'Schools Summary'!$O$2,'Data Sheet'!$H:$H,'Schools Summary'!$B34,'Data Sheet'!$E:$E,"F") -> 0 | D34: =COUNTIFS('Data Sheet'!$A:$A,'Schools Summary'!$O$2,'Data Sheet'!$H:$H,'Schools Summary'!$B34,'Data Sheet'!$E:$E,"m") -> 0 | E34: 0 | F34: =SUM(C34:E34) -> 0 | G34: =IFERROR(SUM(C34/$F$48),0) -> 0 | H34: =IFERROR(SUM(D34/$F$48),0) -> 0 | I34: =IFERROR(SUM(F34/$F$48),0) -> 0 | J34: 360 | K34: EET
B35: Seeking employment, education or training | C35: =COUNTIFS('Data Sheet'!$A:$A,'Schools Summary'!$O$2,'Data Sheet'!$H:$H,'Schools Summary'!$B35,'Data Sheet'!$E:$E,"F") -> 0 | D35: =COUNTIFS('Data Sheet'!$A:$A,'Schools Summary'!$O$2,'Data Sheet'!$H:$H,'Schools Summary'!$B35,'Data Sheet'!$E:$E,"m") -> 3 | E35: 0 | F35: =SUM(C35:E35) -> 3 | G35: =IFERROR(SUM(C35/$F$48),0) -> 0 | H35: =IFERROR(SUM(D35/$F$48),0) -> 0.027522936 | I35: =IFERROR(SUM(F35/$F$48),0) -> 0.027522936
B36: Start Date Agreed (other) | C36: =COUNTIFS('Data Sheet'!$A:$A,'Schools Summary'!$O$2,'Data Sheet'!$H:$H,'Schools Summary'!$B36,'Data Sheet'!$E:$E,"F") -> 0 | D36: =COUNTIFS('Data Sheet'!$A:$A,'Schools Summary'!$O$2,'Data Sheet'!$H:$H,'Schools Summary'!$B36,'Data Sheet'!$E:$E,"m") -> 0 | E36: 0 | F36: =SUM(C36:E36) -> 0 | G36: =IFERROR(SUM(C36/$F$48),0) -> 0 | H36: =IFERROR(SUM(D36/$F$48),0) -> 0 | I36: =IFERROR(SUM(F36/$F$48),0) -> 0 | K36: NEET
B37: NEET not ready for training | C37: =COUNTIFS('Data Sheet'!$A:$A,'Schools Summary'!$O$2,'Data Sheet'!$H:$H,'Schools Summary'!$B37,'Data Sheet'!$E:$E,"F") -> 1 | D37: =COUNTIFS('Data Sheet'!$A:$A,'Schools Summary'!$O$2,'Data Sheet'!$H:$H,'Schools Summary'!$B37,'Data Sheet'!$E:$E,"m") -> 1 | E37: 0 | F37: =SUM(C37:E37) -> 2 | G37: =IFERROR(SUM(C37/$F$48),0) -> 0.0091743119 | H37: =IFERROR(SUM(D37/$F$48),0) -> 0.0091743119 | I37: =IFERROR(SUM(F37/$F$48),0) -> 0.018348624
B38: Working not for reward | C38: =COUNTIFS('Data Sheet'!$A:$A,'Schools Summary'!$O$2,'Data Sheet'!$H:$H,'Schools Summary'!$B38,'Data Sheet'!$E:$E,"F") -> 0 | D38: =COUNTIFS('Data Sheet'!$A:$A,'Schools Summary'!$O$2,'Data Sheet'!$H:$H,'Schools Summary'!$B38,'Data Sheet'!$E:$E,"m") -> 0 | E38: 0 | F38: =SUM(C38:E38) -> 0 | G38: =IFERROR(SUM(C38/$F$48),0) -> 0 | H38: =IFERROR(SUM(D38/$F$48),0) -> 0 | I38: =IFERROR(SUM(F38/$F$48),0) -> 0 | J38: 540 | K38: NEET
B39: Not Settled (not active): | C39: =C40+C41+C42+C43 -> 0 | D39: =D40+D41+D42+D43 -> 0 | E39: =E40+E41+E42+E43 -> 0 | F39: =SUM(C39:E39) -> 0 | G39: =IFERROR(SUM(C39/$F$48),0) -> 0 | H39: =IFERROR(SUM(D39/$F$48),0) -> 0 | I39: =IFERROR(SUM(F39/$F$48),0) -> 0
B40: NEET young carers | C40: =COUNTIFS('Data Sheet'!$A:$A,'Schools Summary'!$O$2,'Data Sheet'!$H:$H,'Schools Summary'!$B40,'Data Sheet'!$E:$E,"F") -> 0 | D40: =COUNTIFS('Data Sheet'!$A:$A,'Schools Summary'!$O$2,'Data Sheet'!$H:$H,'Schools Summary'!$B40,'Data Sheet'!$E:$E,"m") -> 0 | E40: 0 | F40: =SUM(C40:E40) -> 0 | G40: =IFERROR(SUM(C40/$F$48),0) -> 0 | H40: =IFERROR(SUM(D40/$F$48),0) -> 0 | I40: =IFERROR(SUM(F40/$F$48),0) -> 0 | K40: NEET
...

Sheet Data Sheet
A1: EstablishmentName | B1: Client Ref | C1: First Name | D1: Surname | E1: Gender | F1: DOB | G1: NCCIS ActivityCode | H1: NCCIS Activity | I1: Education and Training | J1: Meeting the duty to participate | K1: EET, NEET, NK
A2: Armthorpe Academy | E2: M | G2: 619 | H2: Seeking employment, education or training | I2: - | J2: - | K2: NEET
A3: Armthorpe Academy | E3: M | G3: 619 | H3: Seeking employment, education or training | I3: - | J3: - | K3: NEET
A4: Armthorpe Academy | E4: M | G4: 619 | H4: Seeking employment, education or training | I4: - | J4: - | K4: NEET
A5: Armthorpe Academy | E5: F | G5: 410 | H5: EFA/SFA funded WBL | I5: WBL | J5: Participating | K5: EET
A6: Armthorpe Academy | E6: F | G6: 410 | H6: EFA/SFA funded WBL | I6: WBL | J6: Participating | K6: EET
A7: Armthorpe Academy | E7: F | G7: 410 | H7: EFA/SFA funded WBL | I7: WBL | J7: Participating | K7: EET
A8: Armthorpe Academy | E8: F | G8: 230 | H8: FTE – further education | I8: FTE | J8: Participating | K8: EET
A9: Armthorpe Academy | E9: M | G9: 230 | H9: FTE – further education | I9: FTE | J9: Participating | K9: EET
A10: Armthorpe Academy | E10: F | G10: 230 | H10: FTE – further education | I10: FTE | J10: Participating | K10: EET
A11: Armthorpe Academy | E11: F | G11: 230 | H11: FTE – further education | I11: FTE | J11: Participating | K11: EET
A12: Armthorpe Academy | E12: F | G12: 230 | H12: FTE – further education | I12: FTE | J12: Participating | K12: EET
A13: Armthorpe Academy | E13: F | G13: 230 | H13: FTE – further education | I13: FTE | J13: Participating | K13: EET
... A110: Armthorpe Academy | E110: M | G110: 220 | H110: FTE – sixth-form college | I110: FTE | J110: Participating | K110: EET

Sheet Sheet3
B2: Establishment
B3: Armthorpe Academy
